Workbook
Name chuong_phuluc_2_name: '03'!$A$1
Name chuong_phuluc_3_name: '04'!$A$1

Sheet 03
A1: PHỤ LỤC 03: BIỂU CÂN ĐỐI TỔNG HỢP DỰ TOÁN NGÂN SÁCH PHƯỜNG NĂM 2026
A2: (Kèm theo Báo cáo số /BC-UBND ngày /12/2025 của UBND phường)
C3: ĐVT: 1000 đồng
A4: Nội dung thu | B4: Dự toán | C4: Nội dung chi | D4: Dự toán
A5: Tổng số thu | B5: =+B6+B9 -> 252608000 | C5: Tổng số chi | D5: =+B5 -> 252608000
A6: I. Thu ngân sách nhà nước | B6: =+B7+B8 -> 37500000 | C6: I. Chi đầu tư phát triển | D6: =+B7 -> 17425000
A7: Thu đầu tư phát triển | B7: =+'04'!H17 -> 17425000
A8: Thu thường xuyên | B8: =+'04'!H8-'04'!H17 -> 20075000
A9: II. Thu bổ sung | B9: =+B10+B11 -> 215108000 | C9: II. Chi thường xuyên | D9: =+D5-D6-D10 -> 231670000
A10: Bổ sung cân đối | B10: =+'04'!H23 -> 171580000 | C10: III. Dự phòng | D10: =+'05'!D104 -> 3513000
A11: Bổ sung mục tiêu | B11: =+'04'!H24 -> 43528000
C13: ỦY BAN NHÂN DÂN PHƯỜNG

Sheet 04
A1: PHỤ LỤC 04: TỔNG HỢP DỰ TOÁN THU NGÂN SÁCH XÃ NĂM 2026
A2: (Phụ lục kèm theo báo cáo /BC-UBND ngày /12/2025 của UBND phường)
G3: ĐVT: 1000 đồng
A4: TT | B4: Nôi dung | C4: Ước thực hiện năm 2025 | E4: Dự toán tỉnh giao năm 2026 | G4: Dự toán năm 2026 | I4: So sánh %
C5: Thu ngân sách NN | D5: Thu ngân sách phường | E5: Thu ngân sách NN | F5: Thu ngân sách phường | G5: Thu ngân sách NN | H5: Thu ngân sách phường | I5: Thu ngân sách NN | J5: Thu ngân sách phường
C6: 1 | D6: 2 | E6: 3 | F6: 4 | G6: 5 | H6: 6 | I6: 7=5/1 | J6: 8=6/2
B7: TỔNG CỘNG | C7: =+C8+C22+C25 -> 8.608336e+08 | D7: =+D8+D22+D25 -> 2.5444537e+08 | E7: =+E8+E22+E25 -> 294338000 | F7: =+F8+F22+F25 -> 252608000 | G7: =+G8+G22+G25 -> 294338000 | H7: =+H8+H22+H25 -> 252608000 | I7: =+G7/C7*100 -> 34.192206 | J7: =+H7/D7*100 -> 99.277891
A8: A | B8: THU NGÂN SÁCH NHÀ NƯỚC | C8: =SUM(C9:C21) -> 6.3164251e+08 | D8: =SUM(D9:D21) -> 25254284 | E8: =SUM(E9:E21) -> 79230000 | F8: =SUM(F9:F21) -> 37500000 | G8: =SUM(G9:G21) -> 79230000 | H8: =SUM(H9:H21) -> 37500000 | I8: =+G8/C8*100 -> 12.543488 | J8: =+H8/D8*100 -> 148.48966
A9: 1 | B9: Thu từ khu vực doanh nghiệp do Nhà nước giữ vai trò chủ đạo | C9: 293000735 | I9: =+G9/C9*100 -> 0
A10: 2 | B10: Thu từ khu vực kinh tế ngoài quốc doanh | C10: 14790268 | D10: 1434476.9 | E10: 4500000 | F10: =+E10*50% -> 2250000 | G10: 4500000 | H10: =+G10*50% -> 2250000 | I10: =+G10/C10*100 -> 30.425412 | J10: =+H10/D10*100 -> 156.85161
A11: 3 | B11: Thuế tiêu thu đặc biệt | C11: 28778 | D11: 4410
A12: 4 | B12: Thuế thu nhập cá nhân | C12: 18390067 | E12: 10050000 | F12: =+E12*50% -> 5025000 | G12: 10050000 | H12: =+G12*50% -> 5025000 | I12: =+G12/C12*100 -> 54.649066
A13: 5 | B13: Lệ phí trước bạ | C13: 19913969 | D13: 5424566.4 | E13: 21000000 | F13: =+E13*50% -> 10500000 | G13: 21000000 | H13: =+G13*50% -> 10500000 | I13: =+G13/C13*100 -> 105.45361 | J13: =+H13/D13*100 -> 193.56386
A14: 6 | B14: Phí - lệ phí | C14: 5711836.1 | D14: 287331 | E14: 250000 | F14: =+E14 -> 250000 | G14: 250000 | H14: =+G14 -> 250000 | I14: =+G14/C14*100 -> 4.3768763 | J14: =+H14/D14*100 -> 87.007667
A15: 7 | B15: Thuế sử dụng đất phi nông nghiệp | C15: 927402 | D15: 927402 | E15: 500000 | F15: =+E15 -> 500000 | G15: 500000 | H15: =+G15 -> 500000 | I15: =+G15/C15*100 -> 53.914052 | J15: =+H15/D15*100 -> 53.914052
A16: 8 | B16: Thu tiền cho thuê đất, thuê mặt nước | C16: 1178900.3 | D16: 185429 | E16: 2400000 | F16: =(E16-15%*E16)*50% -> 1020000 | G16: 2400000 | H16: =(G16-15%*G16)*50% -> 1020000 | I16: =+G16/C16*100 -> 203.57956 | J16: =+H16/D16*100 -> 550.07577
A17: 9 | B17: Thu tiền sử dụng đất | C17: 276057552 | D17: 16300000 | E17: 40000000 | F17: 17425000 | G17: 40000000 | H17: 17425000 | I17: =+G17/C17*100 -> 14.489732 | J17: =+H17/D17*100 -> 106.90184
A18: 10 | B18: Thu khác ngân sách | C18: 886947 | D18: 467681 | E18: 450000 | F18: =+E18 -> 450000 | G18: 450000 | H18: =+G18 -> 450000 | I18: =+G18/C18*100 -> 50.735839 | J18: =+H18/D18*100 -> 96.219432
A19: 11 | B19: Thu từ quỹ đất công ích và thu hoa lợi, công sản khác | E19: 80000 | F19: =+E19 -> 80000 | G19: 80000 | H19: =+G19 -> 80000
A20: 12 | B20: Thu hồi vốn, lợi nhuận, lợi nhuận sau thuế, chênh lệch thu chi của NHNN | C20: 533068
A21: 13 | B21: Huy động đóng góp | C21: 222988 | D21: 222988
A22: B | B22: THU BỔ SUNG TỪ NGÂN SÁCH CẤP TRÊN | C22: 2.1066338e+08 | D22: 2.1066338e+08 | E22: =+E23+E24 -> 215108000 | F22: =+F23+F24 -> 215108000 | G22: =+G23+G24 -> 215108000 | H22: =+H23+H24 -> 215108000 | I22: =+G22/C22*100 -> 102.10982 | J22: =+H22/D22*100 -> 102.10982
A23: 1 | B23: Thu bổ sung cân đối | C23: 126412000 | D23: 126412000 | E23: 171580000 | F23: 171580000 | G23: 171580000 | H23: 171580000 | I23: =+G23/C23*100 -> 135.73079 | J23: =+H23/D23*100 -> 135.73079
A24: 2 | B24: Bổ sung có mục tiêu | C24: 84251380 | D24: 84251380 | E24: 43528000 | F24: 43528000 | G24: 43528000 | H24: 43528000 | I24: =+G24/C24*100 -> 51.664436 | J24: =+H24/D24*100 -> 51.664436
A25: C | B25: Nguồn năm trước chuyển sang năm nay (thu chuyển nguồn) | C25: 18527708 | D25: 18527708
G27: ỦY BAN NHÂN DÂN PHƯỜNG

Sheet 05
A1: Phụ lục 05
A2: DỰ TOÁN CHI NGÂN SÁCH ĐỊA PHƯỜNG NĂM 2026
A3: (Kèm theo báo cáo số /BC-UBND ngày /12/2025 của UBND phường Hà Huy Tập)
A5: STT | B5: Nội dung | C5: Dự toán năm 2025 | D5: Dự toán năm 2026 | E5: So sánh (%)
A6: A | B6: CHI NGÂN SÁCH PHƯỜNG | C6: =+C7+C10+C104 -> 1.3883571e+08 | D6: =+D7+D10+D104 -> 2.52608e+08 | E6: =+D6/C6*100 -> 181.94743
A7: I | B7: Chi đầu tư phát triển | C7: 5610000 | D7: =+D8+D9 -> 17425000 | E7: =+D7/C7*100 -> 310.60606
A8: 1 | B8: Chi Đầu tư xây dựng cơ bản | C8: 5610000 | D8: =+'04'!H17 -> 17425000
A9: 2 | B9: Hỗ trợ đầu tư và thực hiện các nhiệm vụ khác | C9: 0
A10: II | B10: Chi thường xuyên | C10: =+C11+C14+C16+C24+C28+C31+C46+C48+C57+C58+C59 -> 1.3272046e+08 | D10: =+D11+D14+D16+D24+D28+D31+D48+D57+D58+D59+D46 -> 2.3167e+08 | E10: =+D10/C10*100 -> 174.55485
A11: 1 | B11: Chi quốc phòng | C11: 1245668 | D11: =+D12+D13 -> 2172000 | E11: =+D11/C11*100 -> 174.36428
A12: + | B12: Chi hoạt động quốc phòng khác | D12: 200000
A13: + | B13: Chế độ dân quân tự về theo Luật DQTV, Nghị định số 72/2020/NĐ-CP | D13: 1972000
A14: 2 | B14: Chi an ninh và trật tự an toàn xã hội | C14: 366750 | D14: =+D15 -> 370000 | E14: =+D14/C14*100 -> 100.88616
A15: + | B15: Chi an ninh và trật tự an toàn xã hội | D15: 370000
A16: 3 | B16: Chi sự nghiệp Giáo dục | C16: 68190000 | D16: =SUM(D17:D23) -> 87536000 | E16: =+D16/C16*100 -> 128.37073
A17: 3.1 | B17: Kinh phí chi lương, các khoản theo lương và chi hoạt động | D17: 65415000
A18: 3.2 | B18: Kinh phí tăng lương định kỳ; chế độ học sinh, giáo viên khác, Mua sắm phần mềm, chi chung sự nghiệp giáo dục | D18: =3305000+300000 -> 3605000
A19: 3.4 | B19: Chính sách cho học sinh (Tiền ăn trưa trẻ em 3,4,5 tuổi; Nghị định 238/2025/NĐ-CP; Hỗ trợ học sinh khuyết tật theo TTLT số 42; Hỗ trơ miễn, giảm học phí theo NĐ 238) | D19: 2766000
A20: 3.5 | B20: Phụ cấp thể dục | D20: 164000
A21: 3.6 | B21: KP giáo viên dạy HS khuyết tật | D21: 558000
A22: 3.7 | B22: KP Trung tâm học tập cộng đồng | D22: 28000
A23: 3.8 | B23: Hỗ trợ cơ sở vật chất trường học | D23: 15000000
A24: 4 | B24: Chi sự nghiệp Văn hóa thông tin; Phát thanh, truyền hình, thông tấn; Chi Thể dục thể thao | C24: =690645.252+144905 -> 835550.25 | D24: =+D25+D26+D27 -> 750000 | E24: =+D24/C24*100 -> 89.761208
A25: 4.1 | B25: Văn hóa thông tin; thể dục thể thao | D25: 450000
A26: 4.2 | B26: Bổ sung kinh phí phát thanh cấp xã | D26: 90000
A27: 4.3 | B27: KP thực hiện cuộc vận động "Toàn dân đoàn kết xây dựng NTM, đô thị văn minh" theo Thông tư số 121/2017/TT-BTC | D27: 210000
A28: 5 | B28: Chi sự nghiệp Y tế | D28: =SUM(D29:D30) -> 4454000
A29: 5.1 | B29: BHYT cho đối tượng NCC | D29: 905000
A30: 5.2 | B30: BHYT cho các đối tượng BTXH, HTXH, CCB, người nghèo | D30: 3549000
A31: 6 | B31: Chi đảm bảo xã hội | C31: =10937181.4+670016.6 -> 11607198 | D31: =SUM(D32:D45) -> 42168000 | E31: =+D31/C31*100 -> 363.29181
A32: + | B32: Định mức theo số lượng xã sau sáp nhập | D32: 230000
A33: + | B33: Hỗ trợ tiền điện hộ nghèo, hộ chính sách xã hội | D33: 185000
A34: + | B34: Chế độ trợ cấp hàng tháng đối với cán bộ xã đã nghỉ việc theo quy định | D34: 909000
A35: + | B35: Kinh phí chúc thọ, mừng thọ đối tượng 70,75,80,85 tuổi | D35: 121000
A36: + | B36: Kinh phí chúc thọ đối tượng 95 và trên 100 tuổi | D36: 24000
A37: + | B37: Kinh phí chúc thọ và in khung, thiếp đối với đối tượng tròn 90 tuổi, tròn 100 tuổi | D37: 59000
A38: + | B38: Tặng quà người có công với cách mạng, thân nhân người có công, CCB (tiền mặt) Tết nguyên đán | D38: 27000
A39: + | B39: Tặng quà người có công với cách mạng, thân nhân người có công, CCB Ngày TBLS 27/7 | D39: 26000
A40: + | B40: Lãnh đạo tỉnh tặng quà người có công tiêu biểu (1 người/1 xã, phường, 2.000.000 đồng quà tiền mặt, 500.000 đồng hiện vật) nhân dịp Tết nguyên đán và ngày TBLS 27/7 | D40: 5000
A41: + | B41: Đại diện thân nhân liệt sỹ, thờ cúng BMVNAH (tiền mặt để mua lễ vật thắp hương Tết nguyên đán và ngày TBLS 27/7) | D41: 278000
A42: + | B42: Bảo trợ xã hội theo NĐ 20/2021/NĐ-CP và hưu trí xã hội theo NĐ 176/2025/NĐ-CP | D42: 14159000
A43: + | B43: Mai táng phí cho các đối tượng CCB (theo các Quyết định của TTCP) | D43: 702000
... A45: + | B45: Quà tặng tết cổ truyền hàng năm (theo đề xuất của Sở Y tế tại Văn bản số 4358/SYT-BTXH-PCTNXH ngày 14/11/2025) | D45: 45000
A46: 7 | B46: Sự nghiệp KH&CN | D46: =+D47 -> 150000
B47: Bổ sung kinh phí cho cấp xã để thực hiện các nhiệm vụ khoa học, công nghệ, đổi mới sáng tạo và chuyển đổi số | D47: 150000
A48: 8 | B48: Chi sự nghiệp kinh tế | C48: =695868.15+435000+14500000 -> 15630868 | D48: =SUM(D49:D56) -> 60764000 | E48: =+D48/C48*100 -> 388.7436
A49: + | B49: Bổ sung kinh phí kiến thiết thị chính, dịch vụ công ích | D49: 10000000
A50: + | B50: Quỹ lương, quỹ tiền thưởng, chi hoạt động Trung tâm DVTH cấp xã | D50: 1071956
A51: + | B51: Chi hoạt động khác | D51: =1377000-1071956 -> 305044
A52: + | B52: Thuỷ lợi phí | D52: 246000
A53: + | B53: Đất trồng lúa | D53: 2046000
A54: + | B54: Kinh phí sự nghiệp kinh tế | D54: 6075000
A55: + | B55: Kinh phí quản lý, bảo trì, bảo dưỡng đường bộ, đường thuỷ năm 2026 | D55: 1020000
A56: + | B56: Tăng cường cơ sở vật chất | D56: 40000000
A57: 9 | B57: Sự nghiệp môi trường | C57: =522703.5+245000 -> 767703.5 | D57: 2500000 | E57: =+D57/C57*100 -> 325.64655
A58: 10 | B58: Chi khác | C58: =593823.644083333+23800 -> 617623.64 | D58: 930000 | E58: =+D58/C58*100 -> 150.57714
A59: 11 | B59: Chi hoạt động của các cơ quan quản lý nhà nước, đảng, đoàn thể | C59: =+C60+C84+C95+C103 -> 33459096 | D59: =+D60+D84+D95+D102+D103 -> 29876000 | E59: =+D59/C59*100 -> 89.291118
A60: 11.1 | B60: HĐND-UBND phường | C60: =+C61+C64 -> 22702360 | D60: =+D61+D64 -> 21137921 | E60: =+D60/C60*100 -> 93.108916
A61: a | B61: Hội đồng nhân dân phường | C61: 893656 | D61: =+D62+D63 -> 953000 | E61: =+D61/C61*100 -> 106.64059
A62: + | B62: Phụ cấp đại biểu HĐND | D62: 598000
A63: + | B63: Kinh phí hoạt động; kinh phí các kỳ họp của HĐND, phiên họp của Thường trực HĐND | D63: 355000
A64: b | B64: Văn phòng HĐND-UBND | C64: 21808704 | D64: =SUM(D65:D83) -> 20184921 | E64: =+D64/C64*100 -> 92.554428
A65: + | B65: Chi an ninh và trật tự an toàn xã hội | C65: 91900
A66: + | B66: Chi sự nghiệp Văn hóa | C66: 144904.75
A67: + | B67: Chi đảm bảo xã hội | C67: 670016.6
A68: + | B68: Chi sự nghiệp kinh tế | C68: 435000
A69: + | B69: Sự nghiệp môi trường | C69: 245000
A70: + | B70: Chi khác | C70: 23800
A71: + | B71: Lương, phụ cấp theo quỹ lương | D71: =+'[1]01.Quy luong'!$T$17*1000 -> 7640473.7
A72: + | B72: Quỹ tiền thưởng theo quy định tại Điều 4 Nghị định số 73/2024/NĐ-CP | D72: =+'[1]01.Quy luong'!$V$17*1000 -> 513751.68
A73: + | B73: Chi hoạt động | D73: =+'[1]01.Quy luong'!$W$17*1000 -> 1621696
A74: + | B74: Kinh phí hoạt động trung tâm hành chính công | D74: 200000
A75: + | B75: Chế độ bán chuyên trách xã, thôn, tổ dân phố theo Nghị quyết số 111/2023/NQ-HĐND của HĐND tỉnh | D75: 7770000
A76: + | B76: Chế độ đặc thù đối với CBCCVC chuyên trách công nghệ thông tin theo Nghị định số 179/2025/NĐ-CP, Quyết định số 60/2014/QĐ-UBND | D76: 68000
B77: Hỗ trợ KP HĐ111 theo số lượng được cấp có thẩm quyền giao | D77: 93000
A78: + | B78: PC tôn giáo và các các hoạt động tôn giáo | D78: 100000
A79: + | B79: Hỗ trợ thường xuyên hàng tháng cho thành viên Tổ bảo vệ ANTT ở cơ sở theo Nghị quyết 129/2024/NQ-HĐND | D79: 1558000
A80: + | B80: Hỗ trợ hoạt động Tổ CĐS cộng đồng
A81: + | B81: Hoạt động Đảng
A82: + | B82: Chi bồi dưỡng tiếp công dân, xử lý đơn thư khiếu nại; chi cải cách hành chính; chi đào tạo tập huấn và các nhiệm vụ chuyên môn khác | D82: 500000
A83: + | B83: Chi triển khai các hoạt động thu thuế; tổ chức các hoạt động ngày doanh nhân | D83: 120000
A84: 11.2 | B84: Văn phòng Đảng ủy | C84: 3194622.7 | D84: =SUM(D85:D94) -> 6020676.8 | E84: =+D84/C84*100 -> 188.46284
A85: + | B85: Lương, phụ cấp theo quỹ lương | D85: =+'[1]01.Quy luong'!$T$68*1000 -> 3470829.8
A86: + | B86: Hoạt động chung theo lương | D86: =+'[1]01.Quy luong'!$W$68*1000 -> 736686.1
A87: + | B87: Quỹ tiền thưởng theo quy định tại Điều 4 Nghị định số 73/2024/NĐ-CP | D87: =+'[1]01.Quy luong'!$V$68*1000 -> 229160.88
A88: + | B88: Kinh phí tặng thưởng kèm theo Huy hiệu Đảng | D88: 686000
A89: + | B89: Hỗ trợ hoạt động các ban đảng và Ban Công tác 35 | D89: =250000+150000 -> 400000
A90: + | B90: Hỗ trợ KP phục vụ hoạt động cấp uỷ theo Quy định số 44/QĐ-TU ngày của Tỉnh uỷ | D90: 93000
A91: + | B91: Hỗ trợ KP HĐ111 theo số lượng được cấp có thẩm quyền giao | D91: 98000
A92: + | B92: Phụ cấp trách nhiệm đối với cấp ủy viên theo Quyết định số 169-QĐ/TW ngày 24/6/2008 của BCH Trung ương | D92: 194000
A93: + | B93: Phụ cấp cán bộ Uỷ ban kiểm tra cấp xã theo Kết luận số 18/KL-TU ngày 24/9/2015 của Tỉnh uỷ | D93: 28000
A94: + | B94: Hoạt động công tác Đảng của tổ chức Đảng theo Quyết định số 99-QĐ/TW ngày 30/5/2012 của Ban Bí thư TW Đảng | D94: 85000
A95: 11.3 | B95: Ủy ban Mặt trận Tổ quốc | C95: 1392371.2 | D95: =SUM(D96:D101) -> 2016210.4 | E95: =+D95/C95*100 -> 144.80409
A96: + | B96: Lương, phụ cấp theo quỹ lương | D96: =+'[1]01.Quy luong'!$T$90*1000 -> 1465712.3
A97: + | B97: Chi hoạt động thường xuyên và nhiệm vụ khác | D97: =+'[1]01.Quy luong'!$W$90*1000 -> 311098.47
A98: + | B98: Quỹ tiền thưởng theo quy định tại Điều 4 Nghị định số 73/2024/NĐ-CP | D98: =+'[1]01.Quy luong'!$V$90*1000 -> 95359.68
A99: + | B99: Kinh phí hoạt động các tổ chức chính trị - xã hội: Đoàn thanh niên; hội phụ nữ; hội nông dân; Hội cựu chiến binh | D99: 120000
A100: + | B100: Hoạt động ban thanh tra nhân dân | D100: 10000
A101: + | B101: PC tôn giáo | D101: =0.5*2340*12 -> 14040
A102: 11.4 | B102: Kinh phí nâng lương thường xuyên, định kỳ, kinh phí chi quản lý hành chính; mua sắm | D102: =1032112+15000+500000-636920-2000+244000-120000-11000-50000-150000-120000 -> 701192
...

Sheet 06
A1: PHỤ LỤC 06: DỰ TOÁN SỰ NGHIỆP GIÁO DỤC NĂM 2026
A3: (Kèm theo báo cáo số /BC-UBND ngày /12/2025 của UBND phường Hà Huy Tập)
Q4: ĐVT: Triệu đồng
A5: STT | B5: NỘI DUNG | C5: Tổng hợp dự toán chi | D5: Kinh phí chi lương, các khoản theo lương và chi hoạt động | H5: Kinh phí tăng lương định kỳ; chế độ học sinh, giáo viên khác, phân mềm Misa, chi chung sự nghiệp giáo dục | I5: Chính sách cho học sinh | J5: Bao gồm | P5: Phụ cấp thể dục | Q5: Hợp đồng giáo viên theo NĐ 111/2022/NĐ-CP | R5: Nhu cầu cấp ưu đãi của giáo viên dạy học sinh khuyết tật | S5: Kinh phí TTHTCĐ
J6: Tiền ăn trưa của trẻ em 3,4,5 tuổi | K6: Nghị định 238/2025/NĐ-CP | O6: Hỗ trợ học sinh khuyết tật theo TTLT số 42
D7: Cộng | E7: Lương, phụ cấp và các khoản đóng góp | F7: Chi hoạt động | G7: Tiền thưởng theo quy định tại NĐ 73/2024/NĐ-CP | K7: Cộng NĐ 238 | L7: Cấp bù học phí | M7: Hỗ trợ CPHT | N7: Hỗ trợ học phí cho HSSV
A8: A | B8: B | C8: 1 | D8: 2=3+4+5 | E8: 3 | F8: 4 | G8: 5 | H8: 6 | I8: 7=8+9+13 | J8: 8 | K8: 9 | L8: 10 | M8: 11 | N8: 12 | O8: 13 | P8: 14 | Q8: 15 | R8: 16 | S8: 17
A9: I | B9: Khối Mầm non | C9: =SUM(C10:C12) -> 19623.618 | D9: =SUM(D10:D12) -> 18400.004 | E9: =SUM(E10:E12) -> 15262.964 | F9: =SUM(F10:F12) -> 2279.7009 | G9: =SUM(G10:G12) -> 857.33856 | H9: =SUM(H10:H12) -> 0 | I9: =SUM(I10:I12) -> 1200.33 | J9: =SUM(J10:J12) -> 50.4 | ... N9: =SUM(N10:N12) -> 0 | O9: ='[2]10. Hỗ trợ HS khuyet tat'!T10 -> 0 | P9: =SUM(P10:P12) -> 0 | Q9: =SUM(Q10:Q12) -> 0 | R9: =SUM(R10:R12) -> 23.2848 | S9: =SUM(S10:S12) -> 0
A10: 1 | B10: Trường MN Thạch Đài | C10: =D10+I10+Q10+P10+R10 -> 5718.6028 | D10: =E10+F10+G10 -> 5389.5394 | E10: ='[2]02-HSL, Quy luong giao duc'!T11 -> 4469.9401 | F10: ='[2]02-HSL, Quy luong giao duc'!U11 -> 667.63746 | G10: ='[2]02-HSL, Quy luong giao duc'!V11 -> 251.96184 | I10: =J10+K10+O10 -> 317.61 | J10: ='[2]05. Tiền ăn trưa 3-5 tuổi.sửa'!O9 -> 18.72 | K10: =L10+M10+N10 -> 298.89 | L10: ='[2]07. Cấp bù HP'!P8 -> 289.44 | M10: ='[2]08.HT CPHT'!R10 -> 9.45 | O10: ='[2]10. Hỗ trợ HS khuyet tat'!T11 -> 0 | P10: 0 | Q10: ='[2]13.KP HĐ giáo viên NĐ 111'!N8 -> 0 | R10: ='[2]Chế độ GV dạy trẻ KT. Mầm non'!Q9 -> 11.4534
A11: 2 | B11: Trường Mầm Non 1 Tân Lâm Hương | C11: =D11+I11+Q11+P11+R11 -> 6302.8387 | D11: =E11+F11+G11 -> 5861.4787 | E11: ='[2]02-HSL, Quy luong giao duc'!T12 -> 4854.8242 | F11: ='[2]02-HSL, Quy luong giao duc'!U12 -> 725.12437 | G11: ='[2]02-HSL, Quy luong giao duc'!V12 -> 281.53008 | I11: =J11+K11+O11 -> 441.36 | J11: ='[2]05. Tiền ăn trưa 3-5 tuổi.sửa'!O10 -> 15.84 | K11: =L11+M11+N11 -> 425.52 | L11: ='[2]07. Cấp bù HP'!P9 -> 420.12 | M11: ='[2]08.HT CPHT'!R11 -> 5.4 | O11: ='[2]10. Hỗ trợ HS khuyet tat'!T12 -> 0 | Q11: ='[2]13.KP HĐ giáo viên NĐ 111'!N9 -> 0 | R11: ='[2]14.KP giáo viên dạy HS k.tật'!R13 -> 0
A12: 3 | B12: Trường MN 2 Tân Lâm Hương | C12: =D12+I12+Q12+P12+R12 -> 7602.1769 | D12: =E12+F12+G12 -> 7148.9855 | E12: ='[2]02-HSL, Quy luong giao duc'!T13 -> 5938.1997 | F12: ='[2]02-HSL, Quy luong giao duc'!U13 -> 886.93909 | G12: ='[2]02-HSL, Quy luong giao duc'!V13 -> 323.84664 | I12: =J12+K12+O12 -> 441.36 | J12: ='[2]05. Tiền ăn trưa 3-5 tuổi.sửa'!O11 -> 15.84 | K12: =L12+M12+N12 -> 425.52 | L12: ='[2]07. Cấp bù HP'!P10 -> 420.12 | M12: ='[2]08.HT CPHT'!R12 -> 5.4 | O12: ='[2]10. Hỗ trợ HS khuyet tat'!T13 -> 0 | Q12: ='[2]13.KP HĐ giáo viên NĐ 111'!N10 -> 0 | R12: ='[2]Chế độ GV dạy trẻ KT. Mầm non'!Q13 -> 11.8314
A13: II | B13: Khối Tiểu học | C13: =SUM(C14:C16) -> 28098.026 | D13: =SUM(D14:D16) -> 27390.896 | E13: =SUM(E14:E16) -> 22783.117 | F13: =SUM(F14:F16) -> 3402.923 | G13: =SUM(G14:G16) -> 1204.8566 | H13: =SUM(H14:H16) -> 0 | I13: =SUM(I14:I16) -> 219.132 | J13: =SUM(J14:J16) -> 0 | ... S13: =SUM(S14:S16) -> 0
A14: 1 | B14: Trường Tiểu học Thạch Đài | C14: =D14+I14+Q14+P14+R14 -> 7265.697 | D14: =E14+F14+G14 -> 7114.7791 | E14: ='[2]02-HSL, Quy luong giao duc'!T15 -> 5914.6196 | F14: ='[2]02-HSL, Quy luong giao duc'!U15 -> 883.41711 | G14: ='[2]02-HSL, Quy luong giao duc'!V15 -> 316.7424 | I14: =J14+K14+O14 -> 38.448 | K14: =L14+M14+N14 -> 21.6 | L14: ='[2]07. Cấp bù HP'!P14 -> 0 | M14: ='[2]08.HT CPHT'!R14 -> 21.6 | O14: ='[2]10. Hỗ trợ HS khuyet tat'!T15 -> 16.848 | P14: 26.161 | Q14: ='[2]13.KP HĐ giáo viên NĐ 111'!N11 -> 0 | R14: ='[2]Chế độ GV dạy trẻ KT.Tiểu học'!V10 -> 86.308951
A15: 2 | B15: Trường Tiểu học 1 Tân Lâm Hương | C15: =D15+I15+Q15+P15+R15 -> 10727.734 | D15: =E15+F15+G15 -> 10366.768 | E15: ='[2]02-HSL, Quy luong giao duc'!T16 -> 8628.497 | F15: ='[2]02-HSL, Quy luong giao duc'!U16 -> 1288.7662 | G15: ='[2]02-HSL, Quy luong giao duc'!V16 -> 449.50464 | H15: 0 | I15: =J15+K15+O15 -> 113.94 | J15: 0 | K15: =L15+M15+N15 -> 29.7 | L15: ='[2]07. Cấp bù HP'!P15 -> 0 | M15: ='[2]08.HT CPHT'!R15 -> 29.7 | N15: 0 | O15: ='[2]10. Hỗ trợ HS khuyet tat'!T16 -> 84.24 | P15: 40.95 | Q15: ='[2]13.KP HĐ giáo viên NĐ 111'!N12 -> 0 | R15: ='[2]Chế độ GV dạy trẻ KT.Tiểu học'!V44 -> 206.07574
A16: 3 | B16: Trường Tiểu học 2 Tân Lâm Hương | C16: =D16+I16+Q16+P16+R16 -> 10104.595 | D16: =E16+F16+G16 -> 9909.3493 | E16: ='[2]02-HSL, Quy luong giao duc'!T17 -> 8240 | F16: ='[2]02-HSL, Quy luong giao duc'!U17 -> 1230.7397 | G16: ='[2]02-HSL, Quy luong giao duc'!V17 -> 438.6096 | H16: 0 | I16: =J16+K16+O16 -> 66.744 | J16: 0 | K16: =L16+M16+N16 -> 16.2 | L16: ='[2]07. Cấp bù HP'!P16 -> 0 | M16: ='[2]08.HT CPHT'!R16 -> 16.2 | N16: 0 | O16: ='[2]10. Hỗ trợ HS khuyet tat'!T17 -> 50.544 | P16: 39.312 | Q16: ='[2]13.KP HĐ giáo viên NĐ 111'!N13 -> 0 | R16: ='[2]Chế độ GV dạy trẻ KT.Tiểu học'!V28 -> 89.189922
A17: III | B17: Khối THCS | C17: =C18+C19 -> 20955.805 | D17: =D18+D19 -> 19624.141 | E17: =E18+E19 -> 16297.39 | F17: =F18+F19 -> 2433.8071 | G17: =G18+G19 -> 892.944 | H17: =H18+H19 -> 0 | I17: =I18+I19 -> 1121.616 | J17: =J18+J19 -> 0 | ... S17: =S18+S19 -> 0
A18: 1 | B18: Trường THCS Thạch Đài | C18: =D18+I18+Q18+P18+R18 -> 7869.6786 | D18: =E18+F18+G18 -> 7364.2461 | E18: ='[2]02-HSL, Quy luong giao duc'!T19 -> 6111.3902 | F18: ='[2]02-HSL, Quy luong giao duc'!U19 -> 912.80709 | G18: ='[2]02-HSL, Quy luong giao duc'!V19 -> 340.0488 | I18: =J18+K18+O18 -> 442.998 | K18: =L18+M18+N18 -> 426.15 | L18: ='[2]07. Cấp bù HP'!P11 -> 392.4 | M18: ='[2]08.HT CPHT'!R18 -> 33.75 | O18: ='[2]10. Hỗ trợ HS khuyet tat'!T19 -> 16.848 | P18: ='[2]12. Phụ cấp thể dục'!J13 -> 21.294 | Q18: ='[2]13.KP HĐ giáo viên NĐ 111'!N14 -> 0 | R18: ='[2]Chế độ GV dạy trẻ KT.THCS'!Q40 -> 41.140554
A19: 2 | B19: Trường THCS Nguyễn Hoành Từ | C19: =D19+I19+Q19+P19+R19 -> 13086.127 | D19: =E19+F19+G19 -> 12259.895 | E19: ='[2]02-HSL, Quy luong giao duc'!T20 -> 10186 | F19: ='[2]02-HSL, Quy luong giao duc'!U20 -> 1521 | G19: ='[2]02-HSL, Quy luong giao duc'!V20 -> 552.8952 | I19: =J19+K19+O19 -> 678.618 | K19: =L19+M19+N19 -> 661.77 | L19: ='[2]07. Cấp bù HP'!P12 -> 641.52 | M19: ='[2]08.HT CPHT'!R19 -> 20.25 | O19: ='[2]10. Hỗ trợ HS khuyet tat'!T20 -> 16.848 | P19: ='[2]12. Phụ cấp thể dục'!J14 -> 36.036 | Q19: ='[2]13.KP HĐ giáo viên NĐ 111'!N15 -> 0 | R19: ='[2]Chế độ GV dạy trẻ KT.THCS'!Q10 -> 111.57764
A20: IV | B20: Chi các Nội dung khác | C20: =C22+C23+C21 -> 3858.72 | D20: =D22+D23+D21 -> 0 | E20: =E22+E23+E21 -> 0 | F20: =F22+F23+F21 -> 0 | G20: =G22+G23+G21 -> 0 | H20: =H22+H23+H21 -> 3606 | I20: =J20+K20+O20 -> 224.64 | J20: =J22+J23+J21 -> 0 | K20: =K22+K23+K21 -> 224.64 | L20: =L22+L23+L21 -> 0 | M20: =M22+M23+M21 -> 0 | N20: =N22+N23+N21 -> 224.64 | O20: =O22+O23+O21 -> 0 | P20: =P22+P23+P21 -> 0 | Q20: =Q22+Q23+Q21 -> 0 | ... S20: =S22+S23+S21 -> 28.08
A21: 1 | B21: Kinh phí tăng lương định kỳ; chế độ học sinh, giáo viên khác, phân mềm Misa, chi chung sự nghiệp giáo dục | C21: =+D21+H21+I21+J21+P21+Q21+R21 -> 3606 | H21: =1723+231+100+5+88-11+1170+300 -> 3606
A22: 2 | B22: Kinh phí trung tâm học tập CĐ | C22: =S22 -> 28.08 | K22: =L22+M22+N22 -> 0 | N22: ='[2]09. NĐ 238(HSSV ngoai cong lap)'!V15 -> 0 | S22: =2.34*12 -> 28.08
A23: 3 | B23: Hỗ trợ học phí cho HSSV | C23: =N23 -> 224.64 | I23: =J23+K23+O23 -> 224.64 | K23: =L23+M23+N23 -> 224.64 | N23: ='[2]09. NĐ 238(HSSV ngoai cong lap)'!V16 -> 224.64
B24: Tổng cộng (I+II+III) | C24: =C17+C13+C9+C20 -> 72536.17 | D24: =D17+D13+D9 -> 65415.041 | E24: =E17+E13+E9 -> 54343.471 | F24: =F17+F13+F9 -> 8116.431 | G24: =G17+G13+G9 -> 2955.1392 | H24: =H17+H13+H9+H20 -> 3606 | I24: =I17+I13+I9+I20 -> 2765.718 | J24: =J17+J13+J9 -> 50.4 | K24: =K17+K13+K9+K20 -> 2529.99 | L24: =L17+L13+L9+L20 -> 2163.6 | M24: =M17+M13+M9+M20 -> 141.75 | N24: =N17+N13+N9+N20 -> 224.64 | O24: =O17+O13+O9+O20 -> 185.328 | P24: =P17+P13+P9+P20 -> 163.753 | Q24: =Q17+Q13+Q9+Q20 -> 0 | R24: =R17+R13+R9+R20 -> 557.57761 | S24: =S17+S13+S9+S20 -> 28.08
O26: Ngày tháng năm 2025
A27: Người lập biểu | C27: Trưởng phòng Văn hoá | J27: Trưởng phòng Kinh tế, HT và Đô thị | O27: Chủ tịch UBND
A31: Nguyễn Đức Khánh | C31: Phạm Mạnh Hiền | J31: Nguyễn Văn Ninh | O31: Tô Thái Hòa
O33: ỦY BAN NHÂN DÂN PHƯỜNG

Sheet 07
A1: PHỤ LỤC 07: DỰ TOÁN CHI ĐẦU TƯ PHÁT TRIỂN NĂM 2026
A2: (Kèm theo báo cáo số /BC-UBND ngày /12/2025 của UBND phường Hà Huy Tập)
E3: ĐVT: 1000 đồng
A4: STT | B4: Tên dự án | C4: Mã ngành kinh tế | D4: Thời gian khởi công-hoàn thành | E4: Kế hoạch đầu tư trung hạn vốn ngân sách phường giai đoạn 2026-2030 | F4: Kế hoạch vốn năm 2025
B7: Tổng | E7: =SUM(E8:E11) -> 48000000 | F7: =SUM(F8:F11) -> 17100000
A8: 1 | B8: Hạ tầng khu dân cư TDP Bình Tiến, phường Hà Huy Tập | C8: 312 | D8: 2026-2027 | E8: 12000000 | F8: 5400000
A9: 2 | B9: Hạ tầng khu dân cư TDP Đông Tân, phường Hà Huy Tập | C9: 312 | D9: 2026-2027 | E9: 12000000 | F9: 4500000
A10: 3 | B10: Hạ tầng khu dân cư TDP Tiến Bộ, phường Hà Huy Tập | C10: 312 | D10: 2026-2027 | E10: 12000000 | F10: 3600000
A11: 4 | B11: Hạ tầng khu dân cư TDP La Xá, phường Hà Huy Tập | C11: 312 | D11: 2026-2027 | E11: 12000000 | F11: 3600000
D13: ỦY BAN NHÂN DÂN PHƯỜNG

Sheet 08-GD-Vc
A1: PHỤ LỤC 08: PHÂN BỔ CHI TIẾT NGUỒN TĂNG CƯỜNG CƠ SỞ VẬT CHẤT VÀ NGUỒN CƠ SỞ VẬT CHẤT GIÁO DỤC
A2: (Kèm theo báo cáo số /BC-UBND ngày /12/2025 của UBND phường Hà Huy Tập)
A3: STT | B3: Tên dự án | C3: Mã dự án | D3: Mã ngành kinh tế | E3: Thời gian khởi công-hoàn thành | F3: Chủ trương đầu tư/ Quyết định đầu tư | I3: Kế hoạch đầu tư trung hạn vốn ngân sách phường giai đoạn 2026-2030 | J3: Vốn ngân sách phường đã bố trí từ khi khởi công đến nay | K3: Kế hoạch vốn năm 2025
F4: Số ngày, tháng, năm ban hành | G4: Tổng mức đầu tư
G5: Tổng số | H5: Trong đó: Phần vốn ngân sách
B6: Tổng | G6: 120150000 | H6: 120150000 | I6: 37000000 | J6: 8200000 | K6: 55000000
A7: A | B7: Nguồn tăng cường cơ sở vật chất | G7: 79150000 | H7: 79150000 | J7: 7000000 | K7: 40000000
A8: I | B8: Bố trí vốn các dự án chuyển tiếp | G8: 21750000 | H8: 21750000 | J8: 7000000 | K8: 10400000
A9: 1 | B9: Lắp đặt hệ thống camera giám sát tại một số nút giao thông trên địa bàn phường. | D9: 312 | E9: 2025-2026 | F9: 1117 ngày 20/1/2025 | G9: 1500000 | H9: 1500000 | J9: 825000 | K9: 375000
A10: 2 | B10: Cải tạo trung tâm hành chính công và khuôn viên UBND phường Hà Huy Tập | D10: 341 | E10: 2025-2026 | F10: 1117 ngày 20/1/2025 | G10: 2500000 | H10: 2500000 | J10: 1075000 | K10: 925000
A11: 3 | B11: Cải tạo hội trường và các hạng mục phụ trợ cơ quan Đảng ủy | D11: 341 | E11: 2025-2026 | F11: 1117 ngày 20/1/2025 | G11: 700000 | H11: 700000 | J11: 525000 | K11: 35000
A12: 4 | B12: Gồ giảm tốc tại các điểm giao đường tránh và duy tu 1 số tuyến trên địa bàn phường Hà Huy Tập | D12: 312 | E12: 2025-2026 | F12: 1117 ngày 20/1/2025 | G12: 1000000 | H12: 1000000 | J12: 300000 | K12: 500000
A13: 5 | B13: Hệ thống chiếu sáng từ đường tránh quốc lộ 1A đến giáp xã Thạch Xuân (đường Nguyễn Hoành Từ kéo dài) | D13: 312 | E13: 2025-2026 | F13: 1636 ngày 03/12/2025 | G13: 1350000 | H13: 1350000 | J13: 405000 | K13: 675000
A14: 6 | B14: Chỉnh trang vỉa hè, mở rộng đường giao thông đoạn từ đường Nguyễn Xí đến hết sân vận động phường | D14: 312 | E14: 2025-2026 | F14: 1636 ngày 03/12/2025 | G14: 1500000 | H14: 1500000 | J14: 450000 | K14: 750000
A15: 7 | B15: Hệ thống chiếu sáng từ đường tỉnh lộ 553 đến đường Ven Sông | D15: 312 | E15: 2025-2026 | F15: 1636 ngày 03/12/2025 | G15: 1200000 | H15: 1200000 | J15: 360000 | K15: 600000
A16: 9 | B16: Mương thoát nước TDP Hương Long, Minh Đình từ nhà ông Vấn đến cống thoát đường bộ cao tốc Bắc Nam | D16: 311 | E16: 2025-2026 | F16: 1636 ngày 03/12/2025 | G16: 4500000 | H16: 4500000 | J16: 1350000 | K16: 2250000
A17: 10 | B17: Cải tạo nhà bia tưởng niệm liệt sỹ các anh hùng liệt sỹ | D17: 161 | E17: 2025-2026 | F17: 1636 ngày 03/12/2025 | G17: 1200000 | H17: 1200000 | J17: 360000 | K17: 600000
A18: 11 | B18: Mương thoát nước TDP 17, 18 | D18: 311 | E18: 2025-2026 | F18: 1636 ngày 03/12/2025 | G18: 4500000 | H18: 4500000 | J18: 810000 | K18: 2790000
A19: 12 | B19: Nâng cấp mặt đường từ TDP Nam Thượng đến TDP Liên Hương | D19: 292 | E19: 2025-2026 | F19: 1636 ngày 03/12/2025 | G19: 1800000 | H19: 1800000 | J19: 540000 | K19: 900000
A20: III | B20: Bố trí vốn các công trình khởi công năm 2026 | G20: 57400000 | H20: 57400000 | I20: 57400000 | K20: 29600000
A21: 1 | B21: Nâng cấp đường giao thông từ Tổ dân phố Yên Trung đến Tổ dân phố Tân Hòa 1 | G21: 3500000 | H21: 3500000 | I21: 3500000 | K21: 2100000
A22: 2 | B22: Nâng cấp tuyến đường giao thông từ TDP La Xá đến TDP Sơn Trình | G22: 4000000 | H22: 4000000 | I22: 4000000 | K22: 2400000
A23: 3 | B23: Nâng cấp rải thảm nhựa các tuyến đường giao thông trên địa bàn phường Hà Huy Tập | G23: 2300000 | H23: 2300000 | I23: 2300000 | K23: 1380000
A24: 4 | B24: Đường giao thông tại tổ dân phố Nhân Hòa, phường Hà Huy Tập | G24: 2000000 | H24: 2000000 | I24: 2000000 | K24: 1200000
A25: 5 | B25: Cống thoát nước tại tổ dân phố Bàu Láng, phường Hà Huy Tập | G25: 2200000 | H25: 2200000 | I25: 2200000 | K25: 1320000
A26: 6 | B26: Mương thoát nước tại các tổ dân phố trên địa bàn phường Hà Huy Tập | G26: 3000000 | H26: 3000000 | I26: 3000000 | K26: 1800000
A27: 7 | B27: Mương thoát nước tại tổ dân phố Tiến Bộ, phường Hà Huy Tập | G27: 4000000 | H27: 4000000 | I27: 4000000 | K27: 2400000
A28: 8 | B28: Mương thoát nước tại tổ dân phố Thắng Hòa, phường Hà Huy Tập | G28: 3800000 | H28: 3800000 | I28: 3800000 | K28: 2280000
A29: 9 | B29: Mương thoát nước tại tổ dân phố Nam Thượng, phường Hà Huy Tập | G29: 3500000 | H29: 3500000 | I29: 3500000 | K29: 2100000
A30: 10 | B30: Xây mới kết hợp cải tạo nhà làm việc 2 tầng và các hạng mục phụ trợ trụ sở UBND phường Hà Huy Tập | G30: 1500000 | H30: 1500000 | I30: 1500000 | K30: 900000
A31: 11 | B31: Cải tạo, nâng cấp trụ sở công an phường Hà Huy Tập | G31: 5000000 | H31: 5000000 | I31: 5000000 | K31: 2500000
A32: 12 | B32: Đường giao thông nội đồng từ đường tránh Quốc lộ 1 A đến TDP Sơn Trình | G32: 1800000 | H32: 1800000 | I32: 1800000 | K32: 900000
... A37: 17 | B37: Hạ tầng khu dân cư Tổ dân phố Trung Hòa và Tổ dân phố 18, phường Hà Huy Tập | G37: 15000000 | H37: 15000000 | I37: 15000000 | K37: 5270000
A38: B | B38: Nguồn hỗ trợ cơ sở vật chất trường học | G38: 41000000 | H38: 41000000 | I38: 37000000 | J38: 1200000 | K38: 15000000
A39: I | B39: Bố trí vốn các công trình khởi công năm 2025 | G39: 4000000 | H39: 4000000 | J39: 1200000 | K39: 2000000
A40: 1 | B40: Cải tạo nhà học 2 tầng trường tiểu học Tân Lâm Hương 1 | G40: 4000000 | H40: 4000000 | J40: 1200000 | K40: 2000000
A41: II | B41: Bố trí vốn các công trình khởi công năm 2026 | G41: 37000000 | H41: 37000000 | I41: 37000000 | J41: 0 | K41: 13000000
A42: 1 | B42: Nhà học 3 tầng trường tiểu học II, Tân Lâm Hương điểm 1 | G42: 12000000 | H42: 12000000 | I42: 12000000 | K42: 3600000
A43: 2 | B43: Nhà hiệu bộ kết hợp nhà học và các hạng mục phụ trợ trường mầm non Thạch Đài | G43: 13000000 | H43: 13000000 | I43: 13000000 | K43: 4200000
A44: 3 | B44: Cải tạo Nhà học 2 tầng trường tiểu học II, Tân Lâm Hương điểm 2 | G44: 2000000 | H44: 2000000 | I44: 2000000 | K44: 800000
A45: 4 | B45: Xây dựng nhà ăn bán trú, bếp trường tiểu học Thạch Đài | G45: 10000000 | H45: 10000000 | I45: 10000000 | K45: 4000000
A46: 5 | B46: Quy hoạch các trường trên địa bàn | K46: 400000
I48: ỦY BAN NHÂN DÂN PHƯỜNG
